BEGIN:VCALENDAR
VERSION:2.0
PRODID:-//Tiziano Mazzoleni//Events//IT
CALSCALE:GREGORIAN
METHOD:PUBLISH
BEGIN:VEVENT
UID:event-91@tizianomazzoleni.com
DTSTART;VALUE=DATE:20230425
DTEND;VALUE=DATE:20230426
SUMMARY:Hans Zimmer
URL:https://tizianomazzoleni.com/it/eventi/25-aprile-2023-hans-zimmer/
STATUS:CONFIRMED
LOCATION:Sportpaleis\, Anversa\, Belgio
END:VEVENT
END:VCALENDAR
