BEGIN:VCALENDAR
VERSION:2.0
PRODID:-//Tiziano Mazzoleni//Events//IT
CALSCALE:GREGORIAN
METHOD:PUBLISH
BEGIN:VEVENT
UID:event-53@tizianomazzoleni.com
DTSTART;VALUE=DATE:20220522
DTEND;VALUE=DATE:20220523
SUMMARY:Orchesterzentrum Symphony
URL:https://tizianomazzoleni.com/it/eventi/22-maggio-2022-orchesterzentrum-symphony/
STATUS:CONFIRMED
LOCATION:Konzerthaus\, Dortmund\, Germania
END:VEVENT
END:VCALENDAR
