BEGIN:VCALENDAR
VERSION:2.0
PRODID:-//Tiziano Mazzoleni//Events//IT
CALSCALE:GREGORIAN
METHOD:PUBLISH
BEGIN:VEVENT
UID:event-134@tizianomazzoleni.com
DTSTART;VALUE=DATE:20231120
DTEND;VALUE=DATE:20231121
SUMMARY:Alligatoah
URL:https://tizianomazzoleni.com/it/eventi/20-novembre-2023-alligatoah/
STATUS:CONFIRMED
LOCATION:Lanxess Arena\, Colonia\, Germania
END:VEVENT
END:VCALENDAR
