BEGIN:VCALENDAR
VERSION:2.0
PRODID:-//Tiziano Mazzoleni//Events//IT
CALSCALE:GREGORIAN
METHOD:PUBLISH
BEGIN:VEVENT
UID:event-396@tizianomazzoleni.com
DTSTART;VALUE=DATE:20260116
DTEND;VALUE=DATE:20260117
SUMMARY:Junge Philharmonie Köln
URL:https://tizianomazzoleni.com/it/eventi/16-gennaio-2026-junge-philharmonie-koln/
STATUS:CONFIRMED
LOCATION:K.Türks-Halle\, Dinslaken\, Germania
END:VEVENT
END:VCALENDAR
