BEGIN:VCALENDAR
VERSION:2.0
PRODID:-//Tiziano Mazzoleni//Events//IT
CALSCALE:GREGORIAN
METHOD:PUBLISH
BEGIN:VEVENT
UID:event-336@tizianomazzoleni.com
DTSTART;VALUE=DATE:20210414
DTEND;VALUE=DATE:20210415
SUMMARY:Junge Norddeutsche Philharmonie
URL:https://tizianomazzoleni.com/it/eventi/14-aprile-2021-junge-norddeutsche-philharmonie/
STATUS:CONFIRMED
LOCATION:Elbphilharmonie\, Amburgo\, Germania
END:VEVENT
END:VCALENDAR
