BEGIN:VCALENDAR
VERSION:2.0
PRODID:-//Tiziano Mazzoleni//Events//IT
CALSCALE:GREGORIAN
METHOD:PUBLISH
BEGIN:VEVENT
UID:event-132@tizianomazzoleni.com
DTSTART;VALUE=DATE:20231013
DTEND;VALUE=DATE:20231014
SUMMARY:Recital Solistico
URL:https://tizianomazzoleni.com/it/eventi/13-ottobre-2023-recital-solistico/
STATUS:CONFIRMED
LOCATION:Castello di Roncade\, Roncade\, Italia
END:VEVENT
END:VCALENDAR
