BEGIN:VCALENDAR
VERSION:2.0
PRODID:-//Tiziano Mazzoleni//Events//IT
CALSCALE:GREGORIAN
METHOD:PUBLISH
BEGIN:VEVENT
UID:event-480@tizianomazzoleni.com
DTSTART;VALUE=DATE:20261004
DTEND;VALUE=DATE:20261005
SUMMARY:04 Octubre 2026 &#8211\; Cuarteto de Metales
URL:https://tizianomazzoleni.com/es/eventos/04-octubre-2026-cuarteto-de-metales/
STATUS:CONFIRMED
LOCATION:St. Laurentius\, Mönchengladbach\, Alemania
END:VEVENT
END:VCALENDAR
