BEGIN:VCALENDAR
VERSION:2.0
PRODID:-//Tiziano Mazzoleni//Events//IT
CALSCALE:GREGORIAN
METHOD:PUBLISH
BEGIN:VEVENT
UID:event-444@tizianomazzoleni.com
DTSTART;VALUE=DATE:20240504
DTEND;VALUE=DATE:20240505
SUMMARY:LUNCH MIT BRASS
URL:https://tizianomazzoleni.com/en/events/4-may-2024-lunch-mit-brass/
STATUS:CONFIRMED
LOCATION:Kammermusiksaal\, Orchesterzentrum\, Dortmund\, Germany
END:VEVENT
END:VCALENDAR
