BEGIN:VCALENDAR
VERSION:2.0
PRODID:-//Tiziano Mazzoleni//Events//IT
CALSCALE:GREGORIAN
METHOD:PUBLISH
BEGIN:VEVENT
UID:event-364@tizianomazzoleni.com
DTSTART;VALUE=DATE:20220704
DTEND;VALUE=DATE:20220705
SUMMARY:Miami Music Festival Orchestra
URL:https://tizianomazzoleni.com/en/events/4-july-2022-miami-music-festival-orchestra/
STATUS:CONFIRMED
LOCATION:Lummus Park\, Miami Beach\, FL\, United States
END:VEVENT
END:VCALENDAR
