BEGIN:VCALENDAR
VERSION:2.0
PRODID:-//Tiziano Mazzoleni//Events//IT
CALSCALE:GREGORIAN
METHOD:PUBLISH
BEGIN:VEVENT
UID:event-446@tizianomazzoleni.com
DTSTART;VALUE=DATE:20240703
DTEND;VALUE=DATE:20240704
SUMMARY:Cardini
URL:https://tizianomazzoleni.com/en/events/3-july-2024-cardini/
STATUS:CONFIRMED
LOCATION:Urania Theather\, Cologne\, Germany
END:VEVENT
END:VCALENDAR
