BEGIN:VCALENDAR
VERSION:2.0
PRODID:-//Tiziano Mazzoleni//Events//IT
CALSCALE:GREGORIAN
METHOD:PUBLISH
BEGIN:VEVENT
UID:event-624@tizianomazzoleni.com
DTSTART;VALUE=DATE:20240324
DTEND;VALUE=DATE:20240325
SUMMARY:24 March 2024 &#8211\; Masterclass Final Concert
URL:https://tizianomazzoleni.com/en/events/24-march-2024-masterclass-final-concert/
STATUS:CONFIRMED
LOCATION:Teatro Concordia\, Volano (TN)\, Italy
END:VEVENT
END:VCALENDAR
