BEGIN:VCALENDAR
VERSION:2.0
PRODID:-//Tiziano Mazzoleni//Events//IT
CALSCALE:GREGORIAN
METHOD:PUBLISH
BEGIN:VEVENT
UID:event-414@tizianomazzoleni.com
DTSTART;VALUE=DATE:20230612
DTEND;VALUE=DATE:20230613
SUMMARY:Hans Zimmer
URL:https://tizianomazzoleni.com/en/events/12-june-2023-hans-zimmer/
STATUS:CONFIRMED
LOCATION:Ahoy Arena\, Rotterdam\, Netherlands
END:VEVENT
END:VCALENDAR
