BEGIN:VCALENDAR
VERSION:2.0
PRODID:-//Tiziano Mazzoleni//Events//IT
CALSCALE:GREGORIAN
METHOD:PUBLISH
BEGIN:VEVENT
UID:event-453@tizianomazzoleni.com
DTSTART;VALUE=DATE:20250104
DTEND;VALUE=DATE:20250105
SUMMARY:Junge Philharmonie Köln
URL:https://tizianomazzoleni.com/en/events/04-january-2025-junge-phiharmonie-koln/
STATUS:CONFIRMED
LOCATION:Stadthalle\, Bitburg\, Germany
END:VEVENT
END:VCALENDAR
