BEGIN:VCALENDAR
VERSION:2.0
PRODID:-//Tiziano Mazzoleni//Events//IT
CALSCALE:GREGORIAN
METHOD:PUBLISH
BEGIN:VEVENT
UID:event-319@tizianomazzoleni.com
DTSTART;VALUE=DATE:20260329
DTEND;VALUE=DATE:20260330
SUMMARY:29 März 2026 &#8211\; Solo Recital
URL:https://tizianomazzoleni.com/de/veranstaltungen/29-maerz-2026-solo-recital/
STATUS:CONFIRMED
LOCATION:Matthew's Muziek\, Edam\, Niederlande
END:VEVENT
END:VCALENDAR
