BEGIN:VCALENDAR
VERSION:2.0
PRODID:-//Tiziano Mazzoleni//Events//IT
CALSCALE:GREGORIAN
METHOD:PUBLISH
BEGIN:VEVENT
UID:event-323@tizianomazzoleni.com
DTSTART;VALUE=DATE:20260322
DTEND;VALUE=DATE:20260323
SUMMARY:22 März 2026 &#8211\; Requiem
URL:https://tizianomazzoleni.com/de/veranstaltungen/22-maerz-2026-requiem/
STATUS:CONFIRMED
LOCATION:Ev. Kirche Essen-Rellinghausen\, Essen\, Deutschland
END:VEVENT
END:VCALENDAR
