BEGIN:VCALENDAR
VERSION:2.0
PRODID:-//Tiziano Mazzoleni//Events//IT
CALSCALE:GREGORIAN
METHOD:PUBLISH
BEGIN:VEVENT
UID:event-322@tizianomazzoleni.com
DTSTART;VALUE=DATE:20260321
DTEND;VALUE=DATE:20260322
SUMMARY:21 März 2026 &#8211\; Requiem
URL:https://tizianomazzoleni.com/de/veranstaltungen/21-maerz-2026-requiem/
STATUS:CONFIRMED
LOCATION:Kunstraum Heilig Geist\, Essen\, Deutschland
END:VEVENT
END:VCALENDAR
