BEGIN:VCALENDAR
VERSION:2.0
PRODID:-//Tiziano Mazzoleni//Events//IT
CALSCALE:GREGORIAN
METHOD:PUBLISH
BEGIN:VEVENT
UID:event-324@tizianomazzoleni.com
DTSTART;VALUE=DATE:20260912
DTEND;VALUE=DATE:20260913
SUMMARY:12 September 2026 &#8211\; Blechbläserquartett
URL:https://tizianomazzoleni.com/de/veranstaltungen/12-september-2026-blechblaeserquartett/
STATUS:CONFIRMED
LOCATION:Tönisvorst\, Deutschland
END:VEVENT
END:VCALENDAR
