BEGIN:VCALENDAR
VERSION:2.0
PRODID:-//Tiziano Mazzoleni//Events//IT
CALSCALE:GREGORIAN
METHOD:PUBLISH
BEGIN:VEVENT
UID:event-93@tizianomazzoleni.com
DTSTART;VALUE=DATE:20221210
DTEND;VALUE=DATE:20221211
SUMMARY:Philharmonie Südwestfalen
URL:https://tizianomazzoleni.com/de/veranstaltungen/10-dezember-2022-philharmonie-suedwestfalen/
STATUS:CONFIRMED
LOCATION:Apollo Theater\, Siegen\, Deutschland
END:VEVENT
END:VCALENDAR
