BEGIN:VCALENDAR
VERSION:2.0
PRODID:-//Tiziano Mazzoleni//Events//IT
CALSCALE:GREGORIAN
METHOD:PUBLISH
BEGIN:VEVENT
UID:event-326@tizianomazzoleni.com
DTSTART;VALUE=DATE:20261004
DTEND;VALUE=DATE:20261005
SUMMARY:04 Oktober 2026 &#8211\; Blechbläserquartett
URL:https://tizianomazzoleni.com/de/veranstaltungen/04-oktober-2026-blechblaeserquartett/
STATUS:CONFIRMED
LOCATION:St. Laurentius\, Mönchengladbach\, Deutschland
END:VEVENT
END:VCALENDAR
